BEGIN:VCALENDAR
VERSION:2.0
PRODID:-//Detroit Recovery Project - ECPv6.15.20//NONSGML v1.0//EN
CALSCALE:GREGORIAN
METHOD:PUBLISH
X-WR-CALNAME:Detroit Recovery Project
X-ORIGINAL-URL:https://www.recovery4detroit.com
X-WR-CALDESC:Events for Detroit Recovery Project
REFRESH-INTERVAL;VALUE=DURATION:PT1H
X-Robots-Tag:noindex
X-PUBLISHED-TTL:PT1H
BEGIN:VTIMEZONE
TZID:America/Detroit
BEGIN:DAYLIGHT
TZOFFSETFROM:-0500
TZOFFSETTO:-0400
TZNAME:EDT
DTSTART:20230312T070000
END:DAYLIGHT
BEGIN:STANDARD
TZOFFSETFROM:-0400
TZOFFSETTO:-0500
TZNAME:EST
DTSTART:20231105T060000
END:STANDARD
BEGIN:DAYLIGHT
TZOFFSETFROM:-0500
TZOFFSETTO:-0400
TZNAME:EDT
DTSTART:20240310T070000
END:DAYLIGHT
BEGIN:STANDARD
TZOFFSETFROM:-0400
TZOFFSETTO:-0500
TZNAME:EST
DTSTART:20241103T060000
END:STANDARD
BEGIN:DAYLIGHT
TZOFFSETFROM:-0500
TZOFFSETTO:-0400
TZNAME:EDT
DTSTART:20250309T070000
END:DAYLIGHT
BEGIN:STANDARD
TZOFFSETFROM:-0400
TZOFFSETTO:-0500
TZNAME:EST
DTSTART:20251102T060000
END:STANDARD
BEGIN:DAYLIGHT
TZOFFSETFROM:-0500
TZOFFSETTO:-0400
TZNAME:EDT
DTSTART:20260308T070000
END:DAYLIGHT
BEGIN:STANDARD
TZOFFSETFROM:-0400
TZOFFSETTO:-0500
TZNAME:EST
DTSTART:20261101T060000
END:STANDARD
BEGIN:DAYLIGHT
TZOFFSETFROM:-0500
TZOFFSETTO:-0400
TZNAME:EDT
DTSTART:20270314T070000
END:DAYLIGHT
BEGIN:STANDARD
TZOFFSETFROM:-0400
TZOFFSETTO:-0500
TZNAME:EST
DTSTART:20271107T060000
END:STANDARD
END:VTIMEZONE
BEGIN:VEVENT
DTSTART;VALUE=DATE:20241213
DTEND;VALUE=DATE:20241214
DTSTAMP:20260421T180153
CREATED:20241120T011203Z
LAST-MODIFIED:20241120T011203Z
UID:211782-1734048000-1734134399@www.recovery4detroit.com
SUMMARY:Winter Coat Drive
DESCRIPTION:
URL:https://www.recovery4detroit.com/event/winter-coat-drive/
LOCATION:MI
ATTACH;FMTTYPE=image/png:https://www.recovery4detroit.com/wp-content/uploads/2024/11/Coat-Drive-Flyer-1.png
END:VEVENT
BEGIN:VEVENT
DTSTART;TZID=America/Detroit:20241217T100000
DTEND;TZID=America/Detroit:20241217T120000
DTSTAMP:20260421T180153
CREATED:20241120T004625Z
LAST-MODIFIED:20241120T010418Z
UID:211779-1734429600-1734436800@www.recovery4detroit.com
SUMMARY:Pancake Breakfast
DESCRIPTION:
URL:https://www.recovery4detroit.com/event/pancake-breakfast/
LOCATION:MI
ATTACH;FMTTYPE=image/png:https://www.recovery4detroit.com/wp-content/uploads/2024/11/Pancake-1.png
END:VEVENT
BEGIN:VEVENT
DTSTART;VALUE=DATE:20250128
DTEND;VALUE=DATE:20250129
DTSTAMP:20260421T180153
CREATED:20250107T220240Z
LAST-MODIFIED:20250107T221121Z
UID:211801-1738022400-1738108799@www.recovery4detroit.com
SUMMARY:Pancake Breakfast
DESCRIPTION:
URL:https://www.recovery4detroit.com/event/pancake-breakfast-2/
LOCATION:MI
ATTACH;FMTTYPE=image/png:https://www.recovery4detroit.com/wp-content/uploads/2025/01/Pancake-breakfast-1-25.png
END:VEVENT
BEGIN:VEVENT
DTSTART;VALUE=DATE:20250207
DTEND;VALUE=DATE:20250208
DTSTAMP:20260421T180153
CREATED:20241120T231456Z
LAST-MODIFIED:20241120T231456Z
UID:211790-1738886400-1738972799@www.recovery4detroit.com
SUMMARY:National Black HIV/AIDS Awareness Day
DESCRIPTION:
URL:https://www.recovery4detroit.com/event/national-black-hiv-aids-awareness-day/
LOCATION:MI
ATTACH;FMTTYPE=image/jpeg:https://www.recovery4detroit.com/wp-content/uploads/2024/11/National-Black-HIV-AIDS-Awareness-Day.jpg
END:VEVENT
BEGIN:VEVENT
DTSTART;VALUE=DATE:20250207
DTEND;VALUE=DATE:20250208
DTSTAMP:20260421T180153
CREATED:20250107T220925Z
LAST-MODIFIED:20250107T221428Z
UID:211804-1738886400-1738972799@www.recovery4detroit.com
SUMMARY:Black History Month - National Black HIV & AIDS Awareness Day
DESCRIPTION:
URL:https://www.recovery4detroit.com/event/national-black-hiv-aids-awareness-day-2/
LOCATION:MI
ATTACH;FMTTYPE=image/png:https://www.recovery4detroit.com/wp-content/uploads/2025/01/Black-History-NBHAAD.png
END:VEVENT
BEGIN:VEVENT
DTSTART;TZID=America/Detroit:20250417T160000
DTEND;TZID=America/Detroit:20250417T190000
DTSTAMP:20260421T180153
CREATED:20250321T152900Z
LAST-MODIFIED:20250321T153126Z
UID:211836-1744905600-1744916400@www.recovery4detroit.com
SUMMARY:Family Field Day
DESCRIPTION:
URL:https://www.recovery4detroit.com/event/family-field-day/
LOCATION:Clark Park Pavillion\, 4301 W Vernor Hwy\, Detroit\, MI\, 48209\, United States
ATTACH;FMTTYPE=image/jpeg:https://www.recovery4detroit.com/wp-content/uploads/2025/03/Family-Field-Day.jpg
END:VEVENT
BEGIN:VEVENT
DTSTART;VALUE=DATE:20250519
DTEND;VALUE=DATE:20250520
DTSTAMP:20260421T180153
CREATED:20241120T011632Z
LAST-MODIFIED:20241120T011632Z
UID:211785-1747612800-1747699199@www.recovery4detroit.com
SUMMARY:National HCV Testing Day
DESCRIPTION:
URL:https://www.recovery4detroit.com/event/national-hcv-testing-day/
LOCATION:MI
ATTACH;FMTTYPE=image/jpeg:https://www.recovery4detroit.com/wp-content/uploads/2024/11/HCV-Testing-Day-2025-1.jpg
END:VEVENT
BEGIN:VEVENT
DTSTART;TZID=America/Detroit:20250613T140000
DTEND;TZID=America/Detroit:20250613T170000
DTSTAMP:20260421T180153
CREATED:20250520T193441Z
LAST-MODIFIED:20250520T193441Z
UID:211861-1749823200-1749834000@www.recovery4detroit.com
SUMMARY:Father's Day
DESCRIPTION:
URL:https://www.recovery4detroit.com/event/fathers-day/
LOCATION:Riverside Park\, 3085 W. Jefferson Ave.\, Detroit\, MI\, 48216\, United States
ATTACH;FMTTYPE=image/png:https://www.recovery4detroit.com/wp-content/uploads/2025/05/Friday-June-13th.png
END:VEVENT
BEGIN:VEVENT
DTSTART;TZID=America/Detroit:20250614T150000
DTEND;TZID=America/Detroit:20250614T230000
DTSTAMP:20260421T180153
CREATED:20250520T193227Z
LAST-MODIFIED:20250520T193227Z
UID:211852-1749913200-1749942000@www.recovery4detroit.com
SUMMARY:JUNETEENTH A Freedom Celebration
DESCRIPTION:
URL:https://www.recovery4detroit.com/event/juneteenth-a-freedom-celebration/
LOCATION:MDK on The River\, 9008 Grand River Ave\, Detroit\, MI\, 48204\, United States
ATTACH;FMTTYPE=image/png:https://www.recovery4detroit.com/wp-content/uploads/2025/05/Juneteenth-Flyer-2025-2.png
END:VEVENT
BEGIN:VEVENT
DTSTART;VALUE=DATE:20250718
DTEND;VALUE=DATE:20250719
DTSTAMP:20260421T180153
CREATED:20250520T193647Z
LAST-MODIFIED:20250625T190602Z
UID:211864-1752796800-1752883199@www.recovery4detroit.com
SUMMARY:Comedy Night
DESCRIPTION:
URL:https://www.recovery4detroit.com/event/comedy-night/
LOCATION:The Garden Theater\, 3929 Woodward Ave\, Detroit\, MI\, 48201\, United States
ATTACH;FMTTYPE=image/png:https://www.recovery4detroit.com/wp-content/uploads/2025/06/Comedy-Night-Flyer.png
END:VEVENT
BEGIN:VEVENT
DTSTART;TZID=America/Detroit:20250718T100000
DTEND;TZID=America/Detroit:20250718T140000
DTSTAMP:20260421T180153
CREATED:20250702T065938Z
LAST-MODIFIED:20250702T070355Z
UID:211947-1752832800-1752847200@www.recovery4detroit.com
SUMMARY:Townhall Meeting
DESCRIPTION:
URL:https://www.recovery4detroit.com/event/townhall-meeting/
LOCATION:The Garden Theater\, 3929 Woodward Ave\, Detroit\, MI\, 48201\, United States
ATTACH;FMTTYPE=image/png:https://www.recovery4detroit.com/wp-content/uploads/2025/06/Townhall-Flyer.png
END:VEVENT
BEGIN:VEVENT
DTSTART;TZID=America/Detroit:20250803T150000
DTEND;TZID=America/Detroit:20250803T230000
DTSTAMP:20260421T180153
CREATED:20250724T182210Z
LAST-MODIFIED:20250724T182210Z
UID:211965-1754233200-1754262000@www.recovery4detroit.com
SUMMARY:Summer Speaker Jam
DESCRIPTION:
URL:https://www.recovery4detroit.com/event/summer-speaker-jam/
LOCATION:MDK on The River\, 9008 Grand River Ave\, Detroit\, MI\, 48204\, United States
ATTACH;FMTTYPE=image/png:https://www.recovery4detroit.com/wp-content/uploads/2025/07/Summer-speaker-jam.png
END:VEVENT
BEGIN:VEVENT
DTSTART;TZID=America/Detroit:20250821T130000
DTEND;TZID=America/Detroit:20250821T160000
DTSTAMP:20260421T180153
CREATED:20250724T182535Z
LAST-MODIFIED:20250724T182948Z
UID:211969-1755781200-1755792000@www.recovery4detroit.com
SUMMARY:Backpack Blessings
DESCRIPTION:
URL:https://www.recovery4detroit.com/event/backpack-blessings/
LOCATION:Detroit Recovery Project – Eastside Office\, 1121 East McNichols Rd.\, Detroit\, MI\, 48203\, United States
ATTACH;FMTTYPE=image/png:https://www.recovery4detroit.com/wp-content/uploads/2025/07/Green-Yellow-Pink-Creative-Summer-Camp-Flyer-1.png
END:VEVENT
BEGIN:VEVENT
DTSTART;TZID=America/Detroit:20250829T110000
DTEND;TZID=America/Detroit:20250829T140000
DTSTAMP:20260421T180153
CREATED:20250819T201846Z
LAST-MODIFIED:20250819T201846Z
UID:211986-1756465200-1756476000@www.recovery4detroit.com
SUMMARY:Community Baby Shower
DESCRIPTION:
URL:https://www.recovery4detroit.com/event/community-baby-shower/
LOCATION:Eastside Community Network\, 4401 Conner St\, Detroit\, MI\, 48215\, United States
ATTACH;FMTTYPE=image/png:https://www.recovery4detroit.com/wp-content/uploads/2025/08/DRP-CBS-2026.png
END:VEVENT
BEGIN:VEVENT
DTSTART;TZID=America/Detroit:20250909T130000
DTEND;TZID=America/Detroit:20250909T160000
DTSTAMP:20260421T180153
CREATED:20250819T201715Z
LAST-MODIFIED:20250819T201747Z
UID:211984-1757422800-1757433600@www.recovery4detroit.com
SUMMARY:Tie Dye Health Fair
DESCRIPTION:
URL:https://www.recovery4detroit.com/event/tie-dye-health-fair-2/
LOCATION:Detroit Recovery Project – Eastside Office\, 1121 East McNichols Rd.\, Detroit\, MI\, 48203\, United States
ATTACH;FMTTYPE=image/png:https://www.recovery4detroit.com/wp-content/uploads/2025/08/Tie-Dye-Health-Fair.png
END:VEVENT
BEGIN:VEVENT
DTSTART;TZID=America/Detroit:20250920T150000
DTEND;TZID=America/Detroit:20250920T220000
DTSTAMP:20260421T180153
CREATED:20250916T183813Z
LAST-MODIFIED:20250916T185842Z
UID:212003-1758380400-1758405600@www.recovery4detroit.com
SUMMARY:Sober Movement
DESCRIPTION:
URL:https://www.recovery4detroit.com/event/sober-movement/
LOCATION:Detroit Recovery Project – Westside Office\, 1145 West Grand Blvd.\, Detroit\, MI\, 48208\, United States
ATTACH;FMTTYPE=image/png:https://www.recovery4detroit.com/wp-content/uploads/2025/09/sober-2.png
END:VEVENT
BEGIN:VEVENT
DTSTART;TZID=America/Detroit:20250926T130000
DTEND;TZID=America/Detroit:20250926T160000
DTSTAMP:20260421T180153
CREATED:20250819T201531Z
LAST-MODIFIED:20250819T201531Z
UID:211979-1758891600-1758902400@www.recovery4detroit.com
SUMMARY:Walk 4 Recovery
DESCRIPTION:
URL:https://www.recovery4detroit.com/event/walk-4-recovery/
LOCATION:Detroit Recovery Project – Eastside Office\, 1121 East McNichols Rd.\, Detroit\, MI\, 48203\, United States
ATTACH;FMTTYPE=image/png:https://www.recovery4detroit.com/wp-content/uploads/2025/08/4-recovery.png
END:VEVENT
BEGIN:VEVENT
DTSTART;TZID=America/Detroit:20251126T170000
DTEND;TZID=America/Detroit:20251126T220000
DTSTAMP:20260421T180153
CREATED:20251119T220217Z
LAST-MODIFIED:20251119T220217Z
UID:212010-1764176400-1764194400@www.recovery4detroit.com
SUMMARY:Together In Thanks
DESCRIPTION:
URL:https://www.recovery4detroit.com/event/together-in-thanks/
LOCATION:MDK on The River\, 9008 Grand River Ave\, Detroit\, MI\, 48204\, United States
ATTACH;FMTTYPE=image/png:https://www.recovery4detroit.com/wp-content/uploads/2025/11/11.26-DRP-ThanksgivingEvent.png
END:VEVENT
BEGIN:VEVENT
DTSTART;TZID=America/Detroit:20251231T180000
DTEND;TZID=America/Detroit:20251231T180000
DTSTAMP:20260421T180153
CREATED:20251120T194456Z
LAST-MODIFIED:20251120T194809Z
UID:212014-1767204000-1767204000@www.recovery4detroit.com
SUMMARY:New Year's Eve Party
DESCRIPTION:
URL:https://www.recovery4detroit.com/event/new-years-eve-party/
LOCATION:MDK on The River\, 9008 Grand River Ave\, Detroit\, MI\, 48204\, United States
ATTACH;FMTTYPE=image/png:https://www.recovery4detroit.com/wp-content/uploads/2025/11/image-new-years-2025.png
END:VEVENT
BEGIN:VEVENT
DTSTART;TZID=America/Detroit:20260121T100000
DTEND;TZID=America/Detroit:20260121T120000
DTSTAMP:20260421T180153
CREATED:20260109T035118Z
LAST-MODIFIED:20260109T035118Z
UID:212027-1768989600-1768996800@www.recovery4detroit.com
SUMMARY:Annual Pancake Breakfast
DESCRIPTION:
URL:https://www.recovery4detroit.com/event/annual-pancake-breakfast/
LOCATION:Detroit Recovery Project – Eastside Office\, 1121 East McNichols Rd.\, Detroit\, MI\, 48203\, United States
ATTACH;FMTTYPE=image/png:https://www.recovery4detroit.com/wp-content/uploads/2026/01/1.21-Pancake-Breakfast-2.png
END:VEVENT
END:VCALENDAR