BEGIN:VCALENDAR
VERSION:2.0
PRODID:-//Detroit Recovery Project - ECPv6.15.20//NONSGML v1.0//EN
CALSCALE:GREGORIAN
METHOD:PUBLISH
X-WR-CALNAME:Detroit Recovery Project
X-ORIGINAL-URL:https://www.recovery4detroit.com
X-WR-CALDESC:Events for Detroit Recovery Project
REFRESH-INTERVAL;VALUE=DURATION:PT1H
X-Robots-Tag:noindex
X-PUBLISHED-TTL:PT1H
BEGIN:VTIMEZONE
TZID:America/Detroit
BEGIN:DAYLIGHT
TZOFFSETFROM:-0500
TZOFFSETTO:-0400
TZNAME:EDT
DTSTART:20230312T070000
END:DAYLIGHT
BEGIN:STANDARD
TZOFFSETFROM:-0400
TZOFFSETTO:-0500
TZNAME:EST
DTSTART:20231105T060000
END:STANDARD
BEGIN:DAYLIGHT
TZOFFSETFROM:-0500
TZOFFSETTO:-0400
TZNAME:EDT
DTSTART:20240310T070000
END:DAYLIGHT
BEGIN:STANDARD
TZOFFSETFROM:-0400
TZOFFSETTO:-0500
TZNAME:EST
DTSTART:20241103T060000
END:STANDARD
BEGIN:DAYLIGHT
TZOFFSETFROM:-0500
TZOFFSETTO:-0400
TZNAME:EDT
DTSTART:20250309T070000
END:DAYLIGHT
BEGIN:STANDARD
TZOFFSETFROM:-0400
TZOFFSETTO:-0500
TZNAME:EST
DTSTART:20251102T060000
END:STANDARD
END:VTIMEZONE
BEGIN:VEVENT
DTSTART;TZID=America/Detroit:20240914T150000
DTEND;TZID=America/Detroit:20240914T230000
DTSTAMP:20260421T214754
CREATED:20240917T204006Z
LAST-MODIFIED:20240917T204006Z
UID:211720-1726326000-1726354800@www.recovery4detroit.com
SUMMARY:Sober Fest
DESCRIPTION:
URL:https://www.recovery4detroit.com/event/sober-fest/
LOCATION:MI
ATTACH;FMTTYPE=image/jpeg:https://www.recovery4detroit.com/wp-content/uploads/2024/09/Sober-Fest.jpg
END:VEVENT
BEGIN:VEVENT
DTSTART;TZID=America/Detroit:20240917T110000
DTEND;TZID=America/Detroit:20240917T140000
DTSTAMP:20260421T214754
CREATED:20240917T172833Z
LAST-MODIFIED:20240917T173820Z
UID:211707-1726570800-1726581600@www.recovery4detroit.com
SUMMARY:Tie Dye Health Fair
DESCRIPTION:
URL:https://www.recovery4detroit.com/event/tie-dye-health-fair/
LOCATION:MI
ATTACH;FMTTYPE=image/jpeg:https://www.recovery4detroit.com/wp-content/uploads/2024/09/Tie-Dye-Save-the-date.jpg
END:VEVENT
BEGIN:VEVENT
DTSTART;TZID=America/Detroit:20240925T100000
DTEND;TZID=America/Detroit:20240925T130000
DTSTAMP:20260421T214754
CREATED:20240917T174037Z
LAST-MODIFIED:20240917T174037Z
UID:211714-1727258400-1727269200@www.recovery4detroit.com
SUMMARY:Recovery Breakfast
DESCRIPTION:
URL:https://www.recovery4detroit.com/event/recovery-breakfast/
LOCATION:MI
ATTACH;FMTTYPE=image/jpeg:https://www.recovery4detroit.com/wp-content/uploads/2024/09/Recovery-Bfast-2024-Flyer.jpg
END:VEVENT
BEGIN:VEVENT
DTSTART;TZID=America/Detroit:20240927T150000
DTEND;TZID=America/Detroit:20240927T230000
DTSTAMP:20260421T214754
CREATED:20240917T173703Z
LAST-MODIFIED:20240917T173811Z
UID:211710-1727449200-1727478000@www.recovery4detroit.com
SUMMARY:Voices & Vibes
DESCRIPTION:
URL:https://www.recovery4detroit.com/event/voices-vibes/
LOCATION:MI
ATTACH;FMTTYPE=image/jpeg:https://www.recovery4detroit.com/wp-content/uploads/2024/09/Voices-Vibes.jpg
END:VEVENT
BEGIN:VEVENT
DTSTART;TZID=America/Detroit:20240928T150000
DTEND;TZID=America/Detroit:20240928T230000
DTSTAMP:20260421T214754
CREATED:20240917T203832Z
LAST-MODIFIED:20240917T203832Z
UID:211717-1727535600-1727564400@www.recovery4detroit.com
SUMMARY:Sober Movement Festival
DESCRIPTION:
URL:https://www.recovery4detroit.com/event/sober-movement-festival/
LOCATION:MI
ATTACH;FMTTYPE=image/jpeg:https://www.recovery4detroit.com/wp-content/uploads/2024/09/Sober-Movement-Fest-Flyer-V3.jpg
END:VEVENT
END:VCALENDAR