BEGIN:VCALENDAR
VERSION:2.0
PRODID:-//Detroit Recovery Project - ECPv6.15.20//NONSGML v1.0//EN
CALSCALE:GREGORIAN
METHOD:PUBLISH
X-ORIGINAL-URL:https://www.recovery4detroit.com
X-WR-CALDESC:Events for Detroit Recovery Project
REFRESH-INTERVAL;VALUE=DURATION:PT1H
X-Robots-Tag:noindex
X-PUBLISHED-TTL:PT1H
BEGIN:VTIMEZONE
TZID:America/Detroit
BEGIN:DAYLIGHT
TZOFFSETFROM:-0500
TZOFFSETTO:-0400
TZNAME:EDT
DTSTART:20240310T070000
END:DAYLIGHT
BEGIN:STANDARD
TZOFFSETFROM:-0400
TZOFFSETTO:-0500
TZNAME:EST
DTSTART:20241103T060000
END:STANDARD
BEGIN:DAYLIGHT
TZOFFSETFROM:-0500
TZOFFSETTO:-0400
TZNAME:EDT
DTSTART:20250309T070000
END:DAYLIGHT
BEGIN:STANDARD
TZOFFSETFROM:-0400
TZOFFSETTO:-0500
TZNAME:EST
DTSTART:20251102T060000
END:STANDARD
BEGIN:DAYLIGHT
TZOFFSETFROM:-0500
TZOFFSETTO:-0400
TZNAME:EDT
DTSTART:20260308T070000
END:DAYLIGHT
BEGIN:STANDARD
TZOFFSETFROM:-0400
TZOFFSETTO:-0500
TZNAME:EST
DTSTART:20261101T060000
END:STANDARD
END:VTIMEZONE
BEGIN:VEVENT
DTSTART;TZID=America/Detroit:20250417T160000
DTEND;TZID=America/Detroit:20250417T190000
DTSTAMP:20260421T050138
CREATED:20250321T152900Z
LAST-MODIFIED:20250321T153126Z
UID:211836-1744905600-1744916400@www.recovery4detroit.com
SUMMARY:Family Field Day
DESCRIPTION:
URL:https://www.recovery4detroit.com/event/family-field-day/
LOCATION:Clark Park Pavillion\, 4301 W Vernor Hwy\, Detroit\, MI\, 48209\, United States
ATTACH;FMTTYPE=image/jpeg:https://www.recovery4detroit.com/wp-content/uploads/2025/03/Family-Field-Day.jpg
END:VEVENT
END:VCALENDAR