BEGIN:VCALENDAR
VERSION:2.0
PRODID:-//Detroit Recovery Project - ECPv6.15.20//NONSGML v1.0//EN
CALSCALE:GREGORIAN
METHOD:PUBLISH
X-ORIGINAL-URL:https://www.recovery4detroit.com
X-WR-CALDESC:Events for Detroit Recovery Project
REFRESH-INTERVAL;VALUE=DURATION:PT1H
X-Robots-Tag:noindex
X-PUBLISHED-TTL:PT1H
BEGIN:VTIMEZONE
TZID:America/Detroit
BEGIN:DAYLIGHT
TZOFFSETFROM:-0500
TZOFFSETTO:-0400
TZNAME:EDT
DTSTART:20240310T070000
END:DAYLIGHT
BEGIN:STANDARD
TZOFFSETFROM:-0400
TZOFFSETTO:-0500
TZNAME:EST
DTSTART:20241103T060000
END:STANDARD
BEGIN:DAYLIGHT
TZOFFSETFROM:-0500
TZOFFSETTO:-0400
TZNAME:EDT
DTSTART:20250309T070000
END:DAYLIGHT
BEGIN:STANDARD
TZOFFSETFROM:-0400
TZOFFSETTO:-0500
TZNAME:EST
DTSTART:20251102T060000
END:STANDARD
BEGIN:DAYLIGHT
TZOFFSETFROM:-0500
TZOFFSETTO:-0400
TZNAME:EDT
DTSTART:20260308T070000
END:DAYLIGHT
BEGIN:STANDARD
TZOFFSETFROM:-0400
TZOFFSETTO:-0500
TZNAME:EST
DTSTART:20261101T060000
END:STANDARD
END:VTIMEZONE
BEGIN:VEVENT
DTSTART;VALUE=DATE:20250718
DTEND;VALUE=DATE:20250719
DTSTAMP:20260419T112738
CREATED:20250520T193647Z
LAST-MODIFIED:20250625T190602Z
UID:211864-1752796800-1752883199@www.recovery4detroit.com
SUMMARY:Comedy Night
DESCRIPTION:
URL:https://www.recovery4detroit.com/event/comedy-night/
LOCATION:The Garden Theater\, 3929 Woodward Ave\, Detroit\, MI\, 48201\, United States
ATTACH;FMTTYPE=image/png:https://www.recovery4detroit.com/wp-content/uploads/2025/06/Comedy-Night-Flyer.png
END:VEVENT
BEGIN:VEVENT
DTSTART;TZID=America/Detroit:20250718T100000
DTEND;TZID=America/Detroit:20250718T140000
DTSTAMP:20260419T112738
CREATED:20250702T065938Z
LAST-MODIFIED:20250702T070355Z
UID:211947-1752832800-1752847200@www.recovery4detroit.com
SUMMARY:Townhall Meeting
DESCRIPTION:
URL:https://www.recovery4detroit.com/event/townhall-meeting/
LOCATION:The Garden Theater\, 3929 Woodward Ave\, Detroit\, MI\, 48201\, United States
ATTACH;FMTTYPE=image/png:https://www.recovery4detroit.com/wp-content/uploads/2025/06/Townhall-Flyer.png
END:VEVENT
END:VCALENDAR