BEGIN:VCALENDAR
VERSION:2.0
PRODID:-//Detroit Recovery Project - ECPv6.15.20//NONSGML v1.0//EN
CALSCALE:GREGORIAN
METHOD:PUBLISH
X-WR-CALNAME:Detroit Recovery Project
X-ORIGINAL-URL:https://www.recovery4detroit.com
X-WR-CALDESC:Events for Detroit Recovery Project
REFRESH-INTERVAL;VALUE=DURATION:PT1H
X-Robots-Tag:noindex
X-PUBLISHED-TTL:PT1H
BEGIN:VTIMEZONE
TZID:America/Detroit
BEGIN:DAYLIGHT
TZOFFSETFROM:-0500
TZOFFSETTO:-0400
TZNAME:EDT
DTSTART:20240310T070000
END:DAYLIGHT
BEGIN:STANDARD
TZOFFSETFROM:-0400
TZOFFSETTO:-0500
TZNAME:EST
DTSTART:20241103T060000
END:STANDARD
BEGIN:DAYLIGHT
TZOFFSETFROM:-0500
TZOFFSETTO:-0400
TZNAME:EDT
DTSTART:20250309T070000
END:DAYLIGHT
BEGIN:STANDARD
TZOFFSETFROM:-0400
TZOFFSETTO:-0500
TZNAME:EST
DTSTART:20251102T060000
END:STANDARD
BEGIN:DAYLIGHT
TZOFFSETFROM:-0500
TZOFFSETTO:-0400
TZNAME:EDT
DTSTART:20260308T070000
END:DAYLIGHT
BEGIN:STANDARD
TZOFFSETFROM:-0400
TZOFFSETTO:-0500
TZNAME:EST
DTSTART:20261101T060000
END:STANDARD
END:VTIMEZONE
BEGIN:VEVENT
DTSTART;TZID=America/Detroit:20250803T150000
DTEND;TZID=America/Detroit:20250803T230000
DTSTAMP:20260419T125851
CREATED:20250724T182210Z
LAST-MODIFIED:20250724T182210Z
UID:211965-1754233200-1754262000@www.recovery4detroit.com
SUMMARY:Summer Speaker Jam
DESCRIPTION:
URL:https://www.recovery4detroit.com/event/summer-speaker-jam/
LOCATION:MDK on The River\, 9008 Grand River Ave\, Detroit\, MI\, 48204\, United States
ATTACH;FMTTYPE=image/png:https://www.recovery4detroit.com/wp-content/uploads/2025/07/Summer-speaker-jam.png
END:VEVENT
BEGIN:VEVENT
DTSTART;TZID=America/Detroit:20250821T130000
DTEND;TZID=America/Detroit:20250821T160000
DTSTAMP:20260419T125852
CREATED:20250724T182535Z
LAST-MODIFIED:20250724T182948Z
UID:211969-1755781200-1755792000@www.recovery4detroit.com
SUMMARY:Backpack Blessings
DESCRIPTION:
URL:https://www.recovery4detroit.com/event/backpack-blessings/
LOCATION:Detroit Recovery Project – Eastside Office\, 1121 East McNichols Rd.\, Detroit\, MI\, 48203\, United States
ATTACH;FMTTYPE=image/png:https://www.recovery4detroit.com/wp-content/uploads/2025/07/Green-Yellow-Pink-Creative-Summer-Camp-Flyer-1.png
END:VEVENT
BEGIN:VEVENT
DTSTART;TZID=America/Detroit:20250829T110000
DTEND;TZID=America/Detroit:20250829T140000
DTSTAMP:20260419T125852
CREATED:20250819T201846Z
LAST-MODIFIED:20250819T201846Z
UID:211986-1756465200-1756476000@www.recovery4detroit.com
SUMMARY:Community Baby Shower
DESCRIPTION:
URL:https://www.recovery4detroit.com/event/community-baby-shower/
LOCATION:Eastside Community Network\, 4401 Conner St\, Detroit\, MI\, 48215\, United States
ATTACH;FMTTYPE=image/png:https://www.recovery4detroit.com/wp-content/uploads/2025/08/DRP-CBS-2026.png
END:VEVENT
END:VCALENDAR